BEGIN:VCALENDAR
VERSION:2.0
PRODID:-//wp-events-plugin.com//7.2.3.1//EN
TZID:Europe/Berlin
X-WR-TIMEZONE:Europe/Berlin
BEGIN:VEVENT
UID:4@buecherei-ursensollen.de
DTSTART;TZID=Europe/Berlin:20151220T093000
DTEND;TZID=Europe/Berlin:20151220T103000
DTSTAMP:20160609T064628Z
URL:https://www.buecherei-ursensollen.de/events/kinderkirche/
SUMMARY:Kinderkirche
DESCRIPTION:Komm mit zur Krippe\n\n\n	Treffpunkt vor der Kirche um 09.20 Uh
 r\n	09.30 Uhr Einzug in die Kirche\n	Feier in der Bücherei\n        Segnu
 ng der Kinder in der Bücherei durch den Pfarrer\n        Abholung durch d
 ie Eltern\n\n\nFür Kinder von zwei bis sechs Jahren - auch mit Begleitung
 !\n\nIhr Kinderkirche-Team\n(Martina Adams\, Johanna Graml\, Martina Kuhn\
 , Julia Ströhl\, Kerstin Ströhl)\n\n\n
CATEGORIES:Kinderkirche
LOCATION:Gemeindebücherei Ursensollen\, Schulgasse 1\, Ursensollen\, 92289
 \, Bayern\, Deutschland
GEO:49.40219;11.758640000000014
X-APPLE-STRUCTURED-LOCATION;VALUE=URI;X-ADDRESS=Schulgasse 1\, Ursensollen\
 , 92289\, Bayern\, Deutschland;X-APPLE-RADIUS=100;X-TITLE=Gemeindebüchere
 i Ursensollen:geo:49.40219,11.758640000000014
END:VEVENT
BEGIN:VTIMEZONE
TZID:Europe/Berlin
X-LIC-LOCATION:Europe/Berlin
BEGIN:STANDARD
DTSTART:20151025T020000
TZOFFSETFROM:+0200
TZOFFSETTO:+0100
TZNAME:CET
END:STANDARD
END:VTIMEZONE
END:VCALENDAR